BEGIN:VCALENDAR
VERSION:2.0
PRODID:-//Obec Středokluky - ECPv6.15.17.1//NONSGML v1.0//EN
CALSCALE:GREGORIAN
METHOD:PUBLISH
X-WR-CALNAME:Obec Středokluky
X-ORIGINAL-URL:https://www.stredokluky.cz
X-WR-CALDESC:Akce na Obec Středokluky
REFRESH-INTERVAL;VALUE=DURATION:PT1H
X-Robots-Tag:noindex
X-PUBLISHED-TTL:PT1H
BEGIN:VTIMEZONE
TZID:Europe/Prague
BEGIN:DAYLIGHT
TZOFFSETFROM:+0100
TZOFFSETTO:+0200
TZNAME:CEST
DTSTART:20250330T010000
END:DAYLIGHT
BEGIN:STANDARD
TZOFFSETFROM:+0200
TZOFFSETTO:+0100
TZNAME:CET
DTSTART:20251026T010000
END:STANDARD
BEGIN:DAYLIGHT
TZOFFSETFROM:+0100
TZOFFSETTO:+0200
TZNAME:CEST
DTSTART:20260329T010000
END:DAYLIGHT
BEGIN:STANDARD
TZOFFSETFROM:+0200
TZOFFSETTO:+0100
TZNAME:CET
DTSTART:20261025T010000
END:STANDARD
BEGIN:DAYLIGHT
TZOFFSETFROM:+0100
TZOFFSETTO:+0200
TZNAME:CEST
DTSTART:20270328T010000
END:DAYLIGHT
BEGIN:STANDARD
TZOFFSETFROM:+0200
TZOFFSETTO:+0100
TZNAME:CET
DTSTART:20271031T010000
END:STANDARD
END:VTIMEZONE
BEGIN:VEVENT
DTSTART;TZID=Europe/Prague:20260423T073000
DTEND;TZID=Europe/Prague:20260423T190000
DTSTAMP:20260422T060835
CREATED:20260421T115049Z
LAST-MODIFIED:20260421T115049Z
UID:24540-1776929400-1776970800@www.stredokluky.cz
SUMMARY:Odstávka elektřiny Nové Středokluky
DESCRIPTION:Dovolte\, abychom Vás informovali o plánovaném přerušení dodávky elektrické energie v katastru Vaší obce dne 23. 4. 2026 od 7:30 do 19:00 v rozsahu uvedeném v příloze této zprávy. \nPlánovaná odstávka zahrnuje tyto lokality:\nKněževes (okres Praha-západ)\nNa Staré silnici: č. p. 205\nStředokluky (okres Praha-západ)\nNové Středokluky: č. p. 132-137\, 140\, 143\, 158\, 159\, 160\, 161\, 166\, 183\, 198\, 255\, 321\, 324\, 336\, 353\, 401\nkat. území Středokluky (kód 757381): parcelní č. 912/4 \nPřerušení dodávky elektrické energie je nutné z důvodu plánovaných prací na distribuční soustavě\, které jsou nezbytné pro zajištění bezpečných a spolehlivých dodávek elektřiny.\nZasílání oznámení o plánovaných odstávkách e-mailem nebo SMS si může sjednat každý zákazník ke svému odběrnému místu jednoduše a zdarma na www.cezdistribuce.cz/sluzba\, popř. jsou tyto informace k dispozici také na www.cezdistribuce.cz/odstavky\, a to vždy nejpozději 15 dnů před konáním odstávky. \nČEZ Distribuce\, a. s.
URL:https://www.stredokluky.cz/udalost/odstavka-elektriny-nove-stredokluky/
CATEGORIES:Odstávky
END:VEVENT
END:VCALENDAR