BEGIN:VCALENDAR
VERSION:2.0
PRODID:-//Obec Středokluky - ECPv6.15.17.1//NONSGML v1.0//EN
CALSCALE:GREGORIAN
METHOD:PUBLISH
X-WR-CALNAME:Obec Středokluky
X-ORIGINAL-URL:https://www.stredokluky.cz
X-WR-CALDESC:Akce na Obec Středokluky
REFRESH-INTERVAL;VALUE=DURATION:PT1H
X-Robots-Tag:noindex
X-PUBLISHED-TTL:PT1H
BEGIN:VTIMEZONE
TZID:Europe/Prague
BEGIN:DAYLIGHT
TZOFFSETFROM:+0100
TZOFFSETTO:+0200
TZNAME:CEST
DTSTART:20160327T010000
END:DAYLIGHT
BEGIN:STANDARD
TZOFFSETFROM:+0200
TZOFFSETTO:+0100
TZNAME:CET
DTSTART:20161030T010000
END:STANDARD
BEGIN:DAYLIGHT
TZOFFSETFROM:+0100
TZOFFSETTO:+0200
TZNAME:CEST
DTSTART:20170326T010000
END:DAYLIGHT
BEGIN:STANDARD
TZOFFSETFROM:+0200
TZOFFSETTO:+0100
TZNAME:CET
DTSTART:20171029T010000
END:STANDARD
BEGIN:DAYLIGHT
TZOFFSETFROM:+0100
TZOFFSETTO:+0200
TZNAME:CEST
DTSTART:20180325T010000
END:DAYLIGHT
BEGIN:STANDARD
TZOFFSETFROM:+0200
TZOFFSETTO:+0100
TZNAME:CET
DTSTART:20181028T010000
END:STANDARD
BEGIN:DAYLIGHT
TZOFFSETFROM:+0100
TZOFFSETTO:+0200
TZNAME:CEST
DTSTART:20190331T010000
END:DAYLIGHT
BEGIN:STANDARD
TZOFFSETFROM:+0200
TZOFFSETTO:+0100
TZNAME:CET
DTSTART:20191027T010000
END:STANDARD
BEGIN:DAYLIGHT
TZOFFSETFROM:+0100
TZOFFSETTO:+0200
TZNAME:CEST
DTSTART:20200329T010000
END:DAYLIGHT
BEGIN:STANDARD
TZOFFSETFROM:+0200
TZOFFSETTO:+0100
TZNAME:CET
DTSTART:20201025T010000
END:STANDARD
BEGIN:DAYLIGHT
TZOFFSETFROM:+0100
TZOFFSETTO:+0200
TZNAME:CEST
DTSTART:20210328T010000
END:DAYLIGHT
BEGIN:STANDARD
TZOFFSETFROM:+0200
TZOFFSETTO:+0100
TZNAME:CET
DTSTART:20211031T010000
END:STANDARD
BEGIN:DAYLIGHT
TZOFFSETFROM:+0100
TZOFFSETTO:+0200
TZNAME:CEST
DTSTART:20220327T010000
END:DAYLIGHT
BEGIN:STANDARD
TZOFFSETFROM:+0200
TZOFFSETTO:+0100
TZNAME:CET
DTSTART:20221030T010000
END:STANDARD
BEGIN:DAYLIGHT
TZOFFSETFROM:+0100
TZOFFSETTO:+0200
TZNAME:CEST
DTSTART:20230326T010000
END:DAYLIGHT
BEGIN:STANDARD
TZOFFSETFROM:+0200
TZOFFSETTO:+0100
TZNAME:CET
DTSTART:20231029T010000
END:STANDARD
BEGIN:DAYLIGHT
TZOFFSETFROM:+0100
TZOFFSETTO:+0200
TZNAME:CEST
DTSTART:20240331T010000
END:DAYLIGHT
BEGIN:STANDARD
TZOFFSETFROM:+0200
TZOFFSETTO:+0100
TZNAME:CET
DTSTART:20241027T010000
END:STANDARD
BEGIN:DAYLIGHT
TZOFFSETFROM:+0100
TZOFFSETTO:+0200
TZNAME:CEST
DTSTART:20250330T010000
END:DAYLIGHT
BEGIN:STANDARD
TZOFFSETFROM:+0200
TZOFFSETTO:+0100
TZNAME:CET
DTSTART:20251026T010000
END:STANDARD
BEGIN:DAYLIGHT
TZOFFSETFROM:+0100
TZOFFSETTO:+0200
TZNAME:CEST
DTSTART:20260329T010000
END:DAYLIGHT
BEGIN:STANDARD
TZOFFSETFROM:+0200
TZOFFSETTO:+0100
TZNAME:CET
DTSTART:20261025T010000
END:STANDARD
END:VTIMEZONE
BEGIN:VEVENT
DTSTART;TZID=Europe/Prague:20251129T153000
DTEND;TZID=Europe/Prague:20251129T180000
DTSTAMP:20260425T181516
CREATED:20251107T130525Z
LAST-MODIFIED:20251125T120535Z
UID:24049-1764430200-1764439200@www.stredokluky.cz
SUMMARY:Adventní setkání Na Ovčíně a koncert v kostele
DESCRIPTION:Spolek Středokluky „oživení-jinak“ zve na adventní setkání Na Ovčíně od 15.30 hodin a zároveň zve na koncert v kostele Sv. Prokopa od 16.00 hodin.
URL:https://www.stredokluky.cz/udalost/adventni-setkani-na-ovcine-a-koncert-v-kostele/
LOCATION:Ovčín\, Na Ovčíně\, Středokluky\, Středočeský\, 25268\, Česká republika
CATEGORIES:Spolek Středokluky-"oživení jinak"
ATTACH;FMTTYPE=image/jpeg:/wp-content/uploads/2025/11/76339505-eb0e-49de-8121-83638fa3f51c.jpg
END:VEVENT
BEGIN:VEVENT
DTSTART;TZID=Europe/Prague:20251111T170000
DTEND;TZID=Europe/Prague:20251111T200000
DTSTAMP:20260425T181516
CREATED:20251107T125752Z
LAST-MODIFIED:20251110T144005Z
UID:24047-1762880400-1762891200@www.stredokluky.cz
SUMMARY:Svatomartinské setkání v břízkách
DESCRIPTION:Spolek Středokluky “oživení – jinak”\nVás zve na \nSvatomartinské setkání\nv úterý 11. listopadu 2025 od 17 hodin v břízkách\npromítání pohádek\nvíno\, čaj a svatomartinské rohlíčky
URL:https://www.stredokluky.cz/udalost/svatomartinske-setkani-v-brizkach/
LOCATION:Středočeský
CATEGORIES:Akce spolků,Spolek Středokluky-"oživení jinak"
ATTACH;FMTTYPE=image/png:/wp-content/uploads/2025/11/snimek-obrazovky-2025-11-10-153902.png
END:VEVENT
BEGIN:VEVENT
DTSTART;TZID=Europe/Prague:20250706T120000
DTEND;TZID=Europe/Prague:20250706T170000
DTSTAMP:20260425T181516
CREATED:20250616T073204Z
LAST-MODIFIED:20250616T073204Z
UID:23639-1751803200-1751821200@www.stredokluky.cz
SUMMARY:Svatoprokopská pouť ve Středoklukách
DESCRIPTION:Spolek Středokluky „oživení-jinak“ zve na \nSvatoprokopskou pouť ve Středoklukách\nv neděli 6. července 2025 od 12 hodin na Ovčíně. \nOd 14 hodin koncert a prohlídka kostela. \nKolotoč\, trampolíny a nafukovací hrad pro všechny děti zdarma. \nZajištěno občerstvení\, kreativní dílny\, pouťové dobroty a další stánky.
URL:https://www.stredokluky.cz/udalost/svatoprokopska-pout-ve-stredoklukach/
LOCATION:Ovčín\, Na Ovčíně\, Středokluky\, Středočeský\, 25268\, Česká republika
CATEGORIES:Akce spolků,Spolek Středokluky-"oživení jinak"
ATTACH;FMTTYPE=image/jpeg:/wp-content/uploads/2025/06/738146ab-e02f-4c0e-8c13-9f2194374fe6.jpg
END:VEVENT
BEGIN:VEVENT
DTSTART;TZID=Europe/Prague:20241226T090000
DTEND;TZID=Europe/Prague:20241226T160000
DTSTAMP:20260425T181516
CREATED:20241118T135150Z
LAST-MODIFIED:20241126T090301Z
UID:22998-1735203600-1735228800@www.stredokluky.cz
SUMMARY:Svatoštěpánský pochod ze Středokluk na Budeč
DESCRIPTION:Svatoštěpánský pochod ze Středokluk na Budeč. \nSraz je 26. 12. 2024 v 9.00 na zastávce autobusu Středokluky\, U školy. Pěší trasa vede přes Okoř na Budeč a do Zákolan. \n\nNávrat zpět ze Zákolan autobusem okolo jedné hodiny.\n\n\nOrganizátor paní Jiřina Šumavská\, Běloky\, 606 241 944.
URL:https://www.stredokluky.cz/udalost/vanocnipochod24/
LOCATION:Středočeský
CATEGORIES:Akce spolků,Spolek Středokluky-"oživení jinak"
END:VEVENT
BEGIN:VEVENT
DTSTART;TZID=Europe/Prague:20241130T153000
DTEND;TZID=Europe/Prague:20241130T180000
DTSTAMP:20260425T181516
CREATED:20241118T122051Z
LAST-MODIFIED:20241118T122051Z
UID:22984-1732980600-1732989600@www.stredokluky.cz
SUMMARY:Adventní setkání na Ovčíně a koncert v kostele sv. Prokopa
DESCRIPTION:Spolek Středokluky „oživení -jinak“ zve na Adventní setkání na Ovčíně a koncert v kostele sv. Prokopa.
URL:https://www.stredokluky.cz/udalost/ssojadvent24/
LOCATION:Středočeský
CATEGORIES:Akce spolků,Spolek Středokluky-"oživení jinak"
END:VEVENT
BEGIN:VEVENT
DTSTART;TZID=Europe/Prague:20240707T120000
DTEND;TZID=Europe/Prague:20240707T170000
DTSTAMP:20260425T181516
CREATED:20240626T081240Z
LAST-MODIFIED:20240626T081240Z
UID:22466-1720353600-1720371600@www.stredokluky.cz
SUMMARY:Svatoprokopská pouť
DESCRIPTION:Spolek Středokluky „oživení jinak“ zve na Svatoprokopskou pouť. \nZačínáme ve 12 hodin na Ovčíně. Nebude chybět kolotoč\, trampolína\, skákací hrad a malování na obličej. \nOd 14 hodin se můžete těšit na koncert a ve 14.30 proběhne komentovaná prohlídka kostela.
URL:https://www.stredokluky.cz/udalost/pout24/
LOCATION:Ovčín\, Na Ovčíně\, Středokluky\, Středočeský\, 25268\, Česká republika
CATEGORIES:Akce spolků,Spolek Středokluky-"oživení jinak"
END:VEVENT
BEGIN:VEVENT
DTSTART;TZID=Europe/Prague:20231203T153000
DTEND;TZID=Europe/Prague:20231203T180000
DTSTAMP:20260425T181516
CREATED:20231120T091426Z
LAST-MODIFIED:20231120T091747Z
UID:21671-1701617400-1701626400@www.stredokluky.cz
SUMMARY:Adventní setkání na Ovčíně
DESCRIPTION:Spolek Středokluky „Oživení-jinak“ zve na setkání v adventním čase 3.12. 2023 na Ovčíně. \nOd 15.30 na Ovčíně občerstvení z „lambarene“ – uzená klobása\, čaj\, svařák  a sousedské dobroty. \nOd 16 hodin v kostele sv. Prokopa vystoupí školní pěvecký sbor. \nOpět bude soutěž tentokrát o NEJ NEJ štrůdl – odborná porota vybere a odmění nejlahodnější výtvory. \nBude představen originální nástěnný kalendář na rok 2024 tematicky zaměřený na české dějiny\, který bude možné si na místě pořídit. \n 
URL:https://www.stredokluky.cz/udalost/adventni-setkani-na-ovcine/
LOCATION:Ovčín\, Na Ovčíně\, Středokluky\, Středočeský\, 25268\, Česká republika
CATEGORIES:Akce spolků,Spolek Středokluky-"oživení jinak"
ATTACH;FMTTYPE=image/jpeg:/wp-content/uploads/2023/11/img-3153.jpg
END:VEVENT
BEGIN:VEVENT
DTSTART;TZID=Europe/Prague:20230708T110000
DTEND;TZID=Europe/Prague:20230708T190000
DTSTAMP:20260425T181516
CREATED:20230626T105424Z
LAST-MODIFIED:20230626T105828Z
UID:21357-1688814000-1688842800@www.stredokluky.cz
SUMMARY:Svatoprokopské slavnosti 2023
DESCRIPTION:Zveme vás všechny na \nSVATOPROKOPSKÉ SLAVNOSTI 8.7.2023. \nPřijďte s námi oslavit svátek patrona našeho krásného kostela \nSvatého Prokopa. \nOD 11 hodin budou otevřené stánky na jarmarku\, děti se vydovádí na atrakcích (vstup je zdarma – dotace obce Středokluky)\, v 14 hodin jste zváni do kostela na koncert. \n  \nVe statku u „Melíšků“ vystaví své obrázky amatérská malířka Radmila Fajgrlová \n7.7. 17:00-22:00 \n8.7. 14:00-19:00 \n          
URL:https://www.stredokluky.cz/udalost/svatoprokopske-slavnosti-2023/
LOCATION:Středočeský
CATEGORIES:Akce spolků,Spolek Středokluky-"oživení jinak"
ATTACH;FMTTYPE=image/jpeg:/wp-content/uploads/2023/06/obrazek2.jpg
END:VEVENT
BEGIN:VEVENT
DTSTART;TZID=Europe/Prague:20220910T140000
DTEND;TZID=Europe/Prague:20220910T180000
DTSTAMP:20260425T181516
CREATED:20220907T095007Z
LAST-MODIFIED:20220907T095053Z
UID:20531-1662818400-1662832800@www.stredokluky.cz
SUMMARY:Dožínky ve Středoklukách
DESCRIPTION:Spolek Středokluky „Oživení-jinak“ zve na akci Dožínky  ve Středoklukách. \nBude pro Vás připravena ukázka zemědělské techniky\, vědomostní zemědělský kvíz\, atrakce pro děti\, občerstvení a k poslechu a k tanci živá hudba.
URL:https://www.stredokluky.cz/udalost/dozinky-ve-stredoklukach/
LOCATION:Ovčín\, Na Ovčíně\, Středokluky\, Středočeský\, 25268\, Česká republika
CATEGORIES:Akce spolků,Spolek Středokluky-"oživení jinak"
ATTACH;FMTTYPE=image/jpeg:/wp-content/uploads/2022/09/09-dozinky-1.jpg
END:VEVENT
BEGIN:VEVENT
DTSTART;TZID=Europe/Prague:20180707T200000
DTEND;TZID=Europe/Prague:20180708T170000
DTSTAMP:20260425T181516
CREATED:20180626T125057Z
LAST-MODIFIED:20180704T110218Z
UID:13499-1530993600-1531069200@www.stredokluky.cz
SUMMARY:Slavnosti sv. Prokopa
DESCRIPTION:
URL:https://www.stredokluky.cz/udalost/slavnosti-sv-prokopa/
LOCATION:Středočeský
CATEGORIES:Spolek Středokluky-"oživení jinak"
END:VEVENT
BEGIN:VEVENT
DTSTART;TZID=Europe/Prague:20170708T130000
DTEND;TZID=Europe/Prague:20170710T150000
DTSTAMP:20260425T181516
CREATED:20170706T111741Z
LAST-MODIFIED:20170706T113958Z
UID:9766-1499518800-1499698800@www.stredokluky.cz
SUMMARY:Svatoprokopská pouť
DESCRIPTION:
URL:https://www.stredokluky.cz/udalost/svatoprokopska-pout/
LOCATION:Středočeský
CATEGORIES:Baráčníci,Spolek Středokluky-"oživení jinak"
ATTACH;FMTTYPE=image/jpeg:/wp-content/uploads/2017/07/plakat-pout.jpg
END:VEVENT
END:VCALENDAR